BEGIN:VCALENDAR
VERSION:2.0
PRODID:-//eventon.com NONSGML v1.0//EN
CALSCALE:GREGORIAN
METHOD:PUBLISH
BEGIN:VEVENT
UID:69e4c64e1124c
DTSTAMP:20260419T151054
DTSTART:20240223T190000Z
DTEND:20240223T230000Z
TZID:Europe/Helsinki
LOCATION:
SUMMARY:Skuggor från Ekåsen
DESCRIPTION:Boken &#8221;Röster från Ekåsen&#8221; tar steget från sidorna till scenen! Föreställningen &#8221;Skuggor från Ekåsen&#8221; har premiär i februari 2024 på Kulturhuset Karelia och uppmärksammar att det gått 100 år sedan mentalsjukhuset öppnade. Det är en nyskriven pjäs om Ekåsen som lyfter upp temat mental hälsa och berättar om vården och[..]\nhttps://kulturhusetkarelia.fi/fi/evenemang/skuggor-fran-ekasen-6/
URL:https://kulturhusetkarelia.fi/fi/evenemang/skuggor-fran-ekasen-6/
END:VEVENT
END:VCALENDAR