BEGIN:VCALENDAR
VERSION:2.0
PRODID:-//eventon.com NONSGML v1.0//EN
CALSCALE:GREGORIAN
METHOD:PUBLISH
BEGIN:VEVENT
UID:69e894adb3801
DTSTAMP:20260422T122813
DTSTART:20241012T140000Z
DTEND:20241013T000000Z
TZID:Europe/Helsinki
LOCATION:
SUMMARY:KAJ - Karar i arbeit på turné
DESCRIPTION:Humorgruppen KAJ är tillbaka med ett nytt album och en ny turné. År 2009 bildade tre sextonåriga barnrumpor en humorgrupp\,  de spelade sina festliga låtar\,  gjorde sina videor och vips hade femton år gått och de var fullvuxna män med mustascher och bostadslån. Efter två musikaler och en arenashow är[..]\nhttps://kulturhusetkarelia.fi/evenemang/kaj-karar-i-arbeit-pa-turne/
URL:https://kulturhusetkarelia.fi/evenemang/kaj-karar-i-arbeit-pa-turne/
END:VEVENT
END:VCALENDAR